BEGIN:VCALENDAR
VERSION:2.0
PRODID:-//jEvents 2.0 for Joomla//EN
CALSCALE:GREGORIAN
METHOD:PUBLISH
BEGIN:VEVENT
UID:37d1bfce43a888caf1b2bbfea837d28c
CATEGORIES:Vereinstermin
CREATED:20240223T092018
SUMMARY:Technik Training
LOCATION:Trimm Dich Pfad Ankum
DESCRIPTION:<p>Basis Technik Training mit Burkhard. </p>
DTSTAMP:20260425T155656
DTSTART:20240316T140000
SEQUENCE:0
TRANSP:OPAQUE
END:VEVENT
END:VCALENDAR