BEGIN:VCALENDAR
VERSION:2.0
PRODID:-//jEvents 2.0 for Joomla//EN
CALSCALE:GREGORIAN
METHOD:PUBLISH
BEGIN:VEVENT
UID:be15bd61141f739d11b1a602a5501cfc
CATEGORIES:Vereinstermin
CREATED:20240223T092321
SUMMARY:Technik Training
DESCRIPTION:<p>Basis Technik Training mit Burkhard. Ort und Zeit folgen noch</p>
DTSTAMP:20260425T155821
DTSTART;VALUE=DATE:20240414
DTEND;VALUE=DATE:20240415
SEQUENCE:0
TRANSP:OPAQUE
END:VEVENT
END:VCALENDAR