BEGIN:VCALENDAR
VERSION:2.0
PRODID:-//jEvents 2.0 for Joomla//EN
CALSCALE:GREGORIAN
METHOD:PUBLISH
BEGIN:VEVENT
UID:86a87737563860747f9d7868d1e23e98
CATEGORIES:Vereinstermin
CREATED:20240223T092743
SUMMARY:Rund um Rieste
DESCRIPTION:<p>Tagesausfahrt rund um Rieste mit Melanie und Michael</p>
DTSTAMP:20260425T144717
DTSTART:20240421T120000
DTEND:20240421T170000
SEQUENCE:0
TRANSP:OPAQUE
END:VEVENT
END:VCALENDAR